BEGIN:VCALENDAR
VERSION:2.0
PRODID:-//pretix//pretix.eu//
BEGIN:VTIMEZONE
TZID:Europe/Berlin
BEGIN:STANDARD
DTSTART:20001029T040000
RRULE:FREQ=YEARLY;BYDAY=-1SU;BYMONTH=10
TZNAME:CET
TZOFFSETFROM:+0200
TZOFFSETTO:+0100
END:STANDARD
BEGIN:DAYLIGHT
DTSTART:20000326T030000
RRULE:FREQ=YEARLY;BYDAY=-1SU;BYMONTH=3
TZNAME:CEST
TZOFFSETFROM:+0100
TZOFFSETTO:+0200
END:DAYLIGHT
END:VTIMEZONE
BEGIN:VEVENT
UID:pretix-id-tdl-lahm-0@tickets.ippen.media
DTSTART;TZID=Europe/Berlin:20260505T170000
DTEND;TZID=Europe/Berlin:20260505T180000
DESCRIPTION:Tickets: https://tickets.ippen.media/tdl-lahm/\nEinlass: 05.05.
 2026 16:30\nVeranstalter: Ippen Digital GmbH & Co. KG
DTSTAMP:20260425T133833Z
LOCATION:Alte Rotation\, Pressehaus - Münchner Merkur / tz\, Paul-Heyse-St
 raße 2 - 4\, 80336 München
SUMMARY:Tag des Lokaljournalismus: Philipp Lahm über Fake News und die Zuk
 unft des Fußballs
END:VEVENT
END:VCALENDAR
